BEGIN:VCALENDAR
VERSION:2.0
PRODID:-//Morocco AI - ECPv5.9.0//NONSGML v1.0//EN
CALSCALE:GREGORIAN
METHOD:PUBLISH
X-WR-CALNAME:Morocco AI
X-ORIGINAL-URL:https://morocco.ai
X-WR-CALDESC:Events for Morocco AI
BEGIN:VTIMEZONE
TZID:Europe/Paris
BEGIN:DAYLIGHT
TZOFFSETFROM:+0100
TZOFFSETTO:+0200
TZNAME:CEST
DTSTART:20220327T010000
END:DAYLIGHT
BEGIN:STANDARD
TZOFFSETFROM:+0200
TZOFFSETTO:+0100
TZNAME:CET
DTSTART:20221030T010000
END:STANDARD
END:VTIMEZONE
BEGIN:VEVENT
DTSTART;TZID=Europe/Paris:20221116T200000
DTEND;TZID=Europe/Paris:20221116T211500
DTSTAMP:20260422T081516
CREATED:20221110T125212Z
LAST-MODIFIED:20221110T125214Z
UID:11310-1668628800-1668633300@morocco.ai
SUMMARY:MoroccoAI Webinar 17: LAION-5B: An open large-scale dataset for training next generation image-text models
DESCRIPTION:MoroccoAI Webinar Series \nTitle: LAION-5B: An open large-scale dataset for training next generation image-text models \nSpeaker: Mehdi Cherti\, PostDoc researcher at Jülich Supercomputing Center (JSC)\,  Germany
URL:https://morocco.ai/event/moroccoai-webinar-17-laion-5b-an-open-large-scale-dataset-for-training-next-generation-image-text-models/
ORGANIZER;CN="MoroccoAI":MAILTO:contact@morocco.ai
END:VEVENT
END:VCALENDAR