BEGIN:VCALENDAR
VERSION:2.0
PRODID:-//Morocco AI - ECPv5.9.0//NONSGML v1.0//EN
CALSCALE:GREGORIAN
METHOD:PUBLISH
X-WR-CALNAME:Morocco AI
X-ORIGINAL-URL:https://morocco.ai
X-WR-CALDESC:Events for Morocco AI
BEGIN:VTIMEZONE
TZID:Europe/Paris
BEGIN:DAYLIGHT
TZOFFSETFROM:+0100
TZOFFSETTO:+0200
TZNAME:CEST
DTSTART:20220327T010000
END:DAYLIGHT
BEGIN:STANDARD
TZOFFSETFROM:+0200
TZOFFSETTO:+0100
TZNAME:CET
DTSTART:20221030T010000
END:STANDARD
END:VTIMEZONE
BEGIN:VEVENT
DTSTART;TZID=Europe/Paris:20220923T180000
DTEND;TZID=Europe/Paris:20220923T191500
DTSTAMP:20260424T112118
CREATED:20220908T141627Z
LAST-MODIFIED:20220908T141820Z
UID:11242-1663956000-1663960500@morocco.ai
SUMMARY:MoroccoAI Webinar 15: How to build Machine Learning collaboratively?
DESCRIPTION:MoroccoAI Webinar Series \nTitle: How to build Machine Learning collaboratively? \nSpeaker: Manuel Romero\, Hugging Face Fellow\, Murcia\, Spain
URL:https://morocco.ai/event/moroccoai-webinar-15-how-to-build-machine-learning-collaboratively/
ORGANIZER;CN="MoroccoAI":MAILTO:contact@morocco.ai
END:VEVENT
END:VCALENDAR