BEGIN:VCALENDAR
VERSION:2.0
PRODID:-//Morocco AI - ECPv5.9.0//NONSGML v1.0//EN
CALSCALE:GREGORIAN
METHOD:PUBLISH
X-WR-CALNAME:Morocco AI
X-ORIGINAL-URL:https://morocco.ai
X-WR-CALDESC:Events for Morocco AI
BEGIN:VTIMEZONE
TZID:Europe/Paris
BEGIN:DAYLIGHT
TZOFFSETFROM:+0100
TZOFFSETTO:+0200
TZNAME:CEST
DTSTART:20220327T010000
END:DAYLIGHT
BEGIN:STANDARD
TZOFFSETFROM:+0200
TZOFFSETTO:+0100
TZNAME:CET
DTSTART:20221030T010000
END:STANDARD
END:VTIMEZONE
BEGIN:VEVENT
DTSTART;TZID=Europe/Paris:20220706T200000
DTEND;TZID=Europe/Paris:20220706T211500
DTSTAMP:20260424T125445
CREATED:20220629T170544Z
LAST-MODIFIED:20220629T171644Z
UID:11176-1657137600-1657142100@morocco.ai
SUMMARY:MoroccoAI Webinar 14: Scaling Human-Centered Machine Translation
DESCRIPTION:MoroccoAI Webinar Series \nTitle: Scaling Human-Centered Machine Translation \nSpeaker: Maha Elbayad\, PhD\, AI Research Scientist at META AI\, CA\, USA
URL:https://morocco.ai/event/moroccoai-webinar-14-scaling-human-centered-machine-translation/
ORGANIZER;CN="MoroccoAI":MAILTO:contact@morocco.ai
END:VEVENT
END:VCALENDAR